BEGIN:VCALENDAR
VERSION:2.0
PRODID:spatie/icalendar-generator
DESCRIPTION:Veranstaltungen von Ski-Club Buntenbock von 1907 e.V.
X-WR-CALDESC:Veranstaltungen von Ski-Club Buntenbock von 1907 e.V.
REFRESH-INTERVAL;VALUE=DURATION:PT1440M
X-PUBLISHED-TTL:PT1440M
BEGIN:VTIMEZONE
TZID:Europe/Berlin
BEGIN:STANDARD
DTSTART:20221030T030000Z
TZOFFSETFROM:+0200
TZOFFSETTO:+0100
END:STANDARD
BEGIN:DAYLIGHT
DTSTART:20230326T020000Z
TZOFFSETFROM:+0100
TZOFFSETTO:+0200
END:DAYLIGHT
END:VTIMEZONE
BEGIN:VTIMEZONE
TZID:UTC
BEGIN:STANDARD
DTSTART:20250727T104558Z
TZOFFSETFROM:+0000
TZOFFSETTO:+0000
END:STANDARD
END:VTIMEZONE
BEGIN:VEVENT
UID:137-128
DTSTAMP:20260423T104558Z
SUMMARY:Belegung Vereinshaus
LOCATION:
ORGANIZER;CN=Sven:MAILTO:phillip.clz@gmx.de
DTSTART;TZID=Europe/Berlin;VALUE=DATE:20221226
DTEND;TZID=Europe/Berlin;VALUE=DATE:20230103
X-ALT-DESC;FMTTYPE=TEXT/HTML:Christiane Gierke mit Übernachtung
CATEGORIES:Vereinshaus
URL;VALUE=URI:https://sc-buntenbock.de/?page_id=225&#038;mc_id=137&#038;vca
 l=137
METHOD:PUBLISH
END:VEVENT
END:VCALENDAR