BEGIN:VCALENDAR
VERSION:2.0
PRODID:spatie/icalendar-generator
DESCRIPTION:Veranstaltungen von Ski-Club Buntenbock von 1907 e.V.
X-WR-CALDESC:Veranstaltungen von Ski-Club Buntenbock von 1907 e.V.
REFRESH-INTERVAL;VALUE=DURATION:PT1440M
X-PUBLISHED-TTL:PT1440M
BEGIN:VTIMEZONE
TZID:Europe/Berlin
BEGIN:DAYLIGHT
DTSTART:20250330T020000Z
TZOFFSETFROM:+0100
TZOFFSETTO:+0200
END:DAYLIGHT
BEGIN:STANDARD
DTSTART:20251026T030000Z
TZOFFSETFROM:+0200
TZOFFSETTO:+0100
END:STANDARD
BEGIN:DAYLIGHT
DTSTART:20260329T020000Z
TZOFFSETFROM:+0100
TZOFFSETTO:+0200
END:DAYLIGHT
END:VTIMEZONE
BEGIN:VTIMEZONE
TZID:UTC
BEGIN:STANDARD
DTSTART:20250728T105939Z
TZOFFSETFROM:+0000
TZOFFSETTO:+0000
END:STANDARD
END:VTIMEZONE
BEGIN:VEVENT
UID:289-263
DTSTAMP:20260424T105939Z
SUMMARY:Belegung Kaminraum
LOCATION:
ORGANIZER;CN=Sven:MAILTO:phillip.clz@gmx.de
DTSTART;TZID=Europe/Berlin;VALUE=DATE:20251113
DTEND;TZID=Europe/Berlin;VALUE=DATE:20251115
X-ALT-DESC;FMTTYPE=TEXT/HTML:Thorsten Münch mit Übernachtung
CATEGORIES:Vereinshaus
URL;VALUE=URI:https://sc-buntenbock.de/?page_id=225&#038;mc_id=289&#038;vca
 l=289
METHOD:PUBLISH
END:VEVENT
END:VCALENDAR